BEGIN:VCALENDAR
VERSION:2.0
PRODID:-//Tukios.com/
BEGIN:VEVENT
UID:9d23f790-0d30-4b9c-bf7f-f8feb75eb645@www.hodgesfuneralhome.com
DTSTAMP:20260424T162545Z
DTSTART:20260620T180000Z
DTEND:20260620T190000Z
SUMMARY:Celebration of Life
DESCRIPTION:
URL:https://www.hodgesfuneralhome.com/obituaries/vincent-wozniak
LOCATION: 11800 Windsorwood Boulevard  Dade City FL 33525
GEO:28.3289032;-82.1963731
END:VEVENT
END:VCALENDAR