BEGIN:VCALENDAR
VERSION:2.0
PRODID:-//Tukios.com/
BEGIN:VEVENT
UID:34fff7b7-cbe5-4aa9-b59d-841abd2cc87b@www.hodgesfuneralhome.com
DTSTAMP:20260424T000040Z
DTSTART:20260504T160000Z
DTEND:20260504T173000Z
SUMMARY:Luncheon
DESCRIPTION:
URL:https://www.hodgesfuneralhome.com/obituaries/thomas-clark
LOCATION: 37628 Church Avenue  Dade City FL 33525
GEO:28.3630692;-82.1930688
END:VEVENT
END:VCALENDAR