BEGIN:VCALENDAR
VERSION:2.0
PRODID:-//Tukios.com/
BEGIN:VEVENT
UID:f633932c-7c20-4a36-a8d6-f812591bae13@www.hodgesfuneralhome.com
DTSTAMP:20260424T000642Z
DTSTART:20260504T150000Z
DTEND:20260504T160000Z
SUMMARY:Memorial Service
DESCRIPTION:
URL:https://www.hodgesfuneralhome.com/obituaries/thomas-clark
LOCATION: 37628 Church Avenue  Dade City FL 33525
GEO:28.3630692;-82.1930688
END:VEVENT
END:VCALENDAR