BEGIN:VCALENDAR
VERSION:2.0
PRODID:-//Tukios.com/
BEGIN:VEVENT
UID:e0c3fd43-e2db-4d1d-a85f-ce37575f6066@www.hodgesfuneralhome.com
DTSTAMP:20260424T000504Z
DTSTART:20260504T140000Z
DTEND:20260504T150000Z
SUMMARY:Visitation
DESCRIPTION:
URL:https://www.hodgesfuneralhome.com/obituaries/thomas-clark
LOCATION: 37628 Church Avenue  Dade City FL 33525
GEO:28.3630692;-82.1930688
END:VEVENT
END:VCALENDAR