BEGIN:VCALENDAR
VERSION:2.0
PRODID:-//Tukios.com/
BEGIN:VEVENT
UID:79760227-4c55-4855-9088-9567152abc8e@www.hodgesfuneralhome.com
DTSTAMP:20260421T015105Z
DTSTART:20260429T140000Z
DTEND:20260429T160000Z
SUMMARY:Visitation
DESCRIPTION:
URL:https://www.hodgesfuneralhome.com/obituaries/stephen-guzzo
LOCATION:Hodges Family Funeral Home And Cremation Center 11441 US-301  
	Dade City FL 33525
GEO:28.3244894;-82.1886315
END:VEVENT
END:VCALENDAR