BEGIN:VCALENDAR
VERSION:2.0
PRODID:-//Tukios.com/
BEGIN:VEVENT
UID:d586483d-a89e-45f0-8f47-9f14b070f980@www.hodgesfuneralhome.com
DTSTAMP:20260421T015105Z
DTSTART:20260429T160000Z
DTEND:20260429T170000Z
SUMMARY:Funeral Service
DESCRIPTION:
URL:https://www.hodgesfuneralhome.com/obituaries/stephen-guzzo
LOCATION:Hodges Family Funeral Home And Cremation Center 11441 US-301  
	Dade City FL 33525
GEO:28.3244894;-82.1886315
END:VEVENT
END:VCALENDAR