BEGIN:VCALENDAR
VERSION:2.0
PRODID:-//Tukios.com/
BEGIN:VEVENT
UID:1a74fd7d-b901-47c4-a890-38fea193ba79@www.hodgesfuneralhome.com
DTSTAMP:20260421T014601Z
DTSTART:20260429T170000Z
DTEND:20260429T173000Z
SUMMARY:Graveside Service
DESCRIPTION:
URL:https://www.hodgesfuneralhome.com/obituaries/stephen-guzzo
LOCATION:Chapel Hill Gardens Cemetery US-301  Dade City FL 33525
GEO:28.3513596;-82.1874673
END:VEVENT
END:VCALENDAR