BEGIN:VCALENDAR
VERSION:2.0
PRODID:-//Tukios.com/
BEGIN:VEVENT
UID:8cd2a8fd-c55d-46e7-b9fe-aa1ab846ce97@www.hodgesfuneralhome.com
DTSTAMP:20260421T170822Z
DTSTART:20260508T193000Z
DTEND:20260508T200000Z
SUMMARY:Graveside Service
DESCRIPTION:
URL:https://www.hodgesfuneralhome.com/obituaries/olive-folds
LOCATION: Wise Road  Zephyrhills FL 33540
GEO:28.1943318;-82.158615
END:VEVENT
END:VCALENDAR