BEGIN:VCALENDAR
VERSION:2.0
PRODID:-//Tukios.com/
BEGIN:VEVENT
UID:9ed148a2-d48d-42cc-a5bc-053ca7f8a717@www.hodgesfuneralhome.com
DTSTAMP:20260421T170935Z
DTSTART:20260508T170000Z
DTEND:20260508T180000Z
SUMMARY:Visitation
DESCRIPTION:
URL:https://www.hodgesfuneralhome.com/obituaries/olive-folds
LOCATION: 2155 Paul South Buchman Highway  Crystal Springs FL 33524
GEO:28.1888885;-82.1622253
END:VEVENT
END:VCALENDAR