BEGIN:VCALENDAR
VERSION:2.0
PRODID:-//Tukios.com/
BEGIN:VEVENT
UID:787956c7-aa33-4013-a059-1b31527c8bba@www.hodgesfuneralhome.com
DTSTAMP:20260421T171100Z
DTSTART:20260508T180000Z
DTEND:20260508T190000Z
SUMMARY:Funeral Service
DESCRIPTION:
URL:https://www.hodgesfuneralhome.com/obituaries/olive-folds
LOCATION:Crystal Springs Worship Center 2155 Paul South Buchman Highway  
	Crystal Springs FL 33524
GEO:28.1888885;-82.1622253
END:VEVENT
END:VCALENDAR